BEGIN:VCALENDAR
VERSION:2.0
PRODID:-//Ana María Martín - Gestió Cultural - ECPv6.13.2.1//NONSGML v1.0//EN
CALSCALE:GREGORIAN
METHOD:PUBLISH
X-ORIGINAL-URL:https://anamariamartin.com
X-WR-CALDESC:Eventos para Ana María Martín - Gestió Cultural
REFRESH-INTERVAL;VALUE=DURATION:PT1H
X-Robots-Tag:noindex
X-PUBLISHED-TTL:PT1H
BEGIN:VTIMEZONE
TZID:Europe/Madrid
BEGIN:DAYLIGHT
TZOFFSETFROM:+0100
TZOFFSETTO:+0200
TZNAME:CEST
DTSTART:20250330T010000
END:DAYLIGHT
BEGIN:STANDARD
TZOFFSETFROM:+0200
TZOFFSETTO:+0100
TZNAME:CET
DTSTART:20251026T010000
END:STANDARD
END:VTIMEZONE
BEGIN:VEVENT
DTSTART;TZID=Europe/Madrid:20250504T123000
DTEND;TZID=Europe/Madrid:20250504T133000
DTSTAMP:20260423T090055
CREATED:20250421T081606Z
LAST-MODIFIED:20250421T081606Z
UID:10003566-1746361800-1746365400@anamariamartin.com
SUMMARY:Cata de Vermuts - V Fira Gastronòmica d'Alcossebre
DESCRIPTION:CATA DE VERMUTS\, DOMINGO 4 DEMAYO 12:30h \n100 tickets disponibles (70 con reserva online y 30 de venta en la Feria) 10€ \nFORMULARIO DE RESERVA: link en web del evento \nEl jueves 24 de abril a las 12:00 h de la mañana se abrirá el formulario de reservas online para la obtención de tickets. Se podra reservar un máximo de 2 tickets por persona y DNI. En caso de estar dentro de las 70 primeras reservas\, le llegará un sms de confirmación para la recogida y pago de tickets en las oficinas Municipales. Se tendrán que recoger antes del viernes 2 de mayo. Los 30 tickets restantes de venta directa se podrán obtener a partir del sábado 3 de mayo a las 13 horas en la carpa del showcooking (c/ Vistabella). \n\nPROGRAMACIÓN DEL FIN DE SEMANA \nVIERNES 2 DE MAYO\n17:00h Apertura del recinto de la Feria.\n19:00h Cata de cervezas artesanas en la calle Sant Benet\, ambientada con música y dj by Juanma Vinuesa.\n20:30h Concierto en directo: «FIVE». \nSÁBADO 3 DE MAYO\n11:00h Inauguración de la V Fira Gastronómica d’ Alcossebre. 12:00h Showcooking en directo: Rest. Can Roig\, by Daniel Roig.\n19:00h Cata de vinos IGP en la calle Vistabella\, by Juanfran Rodriguez.\n20:30h Concierto en directo: «Dragon Rapide». \nDOMINGO 4 DE MAYO\n10:00h Reapertura de la Feria.\nIl:00h Showcooking en directo: Elaboración tradicional de «bunyols»\, by La Bunyoleria.\n12:30h Cata de vermuts en la calle Vistabella\, by Juanfran Rodríguez.\nEspacio Gastronómico y catas coordinado por la Asociación de «Majorals de Sant Antoni d’ Alcossebre»
URL:https://anamariamartin.com/agenda/fira-gastronomica-alcossebre-9/
LOCATION:Espai Ferial\, Carrer Rench\, Alcossebre\, Castelló\, 12579\, España
CATEGORIES:Ajuntament Alcalà de Xivert,Alcossebre (Alcalà de Xivert),Cultura,Gastronomia
ATTACH;FMTTYPE=image/jpeg:https://anamariamartin.com/wp-content/uploads/2025/04/firagastroAyto.jpg
ORGANIZER;CN="Ajuntament d'Alcal%C3%A0 de Xivert":MAILTO:info@alcaladexivert.es
END:VEVENT
END:VCALENDAR