BEGIN:VCALENDAR
VERSION:2.0
PRODID:-//Ana María Martín - Gestió Cultural - ECPv6.13.2.1//NONSGML v1.0//EN
CALSCALE:GREGORIAN
METHOD:PUBLISH
X-WR-CALNAME:Ana María Martín - Gestió Cultural
X-ORIGINAL-URL:https://anamariamartin.com
X-WR-CALDESC:Eventos para Ana María Martín - Gestió Cultural
REFRESH-INTERVAL;VALUE=DURATION:PT1H
X-Robots-Tag:noindex
X-PUBLISHED-TTL:PT1H
BEGIN:VTIMEZONE
TZID:Europe/Madrid
BEGIN:DAYLIGHT
TZOFFSETFROM:+0100
TZOFFSETTO:+0200
TZNAME:CEST
DTSTART:20250330T010000
END:DAYLIGHT
BEGIN:STANDARD
TZOFFSETFROM:+0200
TZOFFSETTO:+0100
TZNAME:CET
DTSTART:20251026T010000
END:STANDARD
END:VTIMEZONE
BEGIN:VEVENT
DTSTART;TZID=Europe/Madrid:20250426T173000
DTEND;TZID=Europe/Madrid:20250426T193000
DTSTAMP:20260425T134529
CREATED:20250414T094018Z
LAST-MODIFIED:20250414T224059Z
UID:10002800-1745688600-1745695800@anamariamartin.com
SUMMARY:Ponència i presentació - Jesús Ávila
DESCRIPTION:L’autor Jesús Ávila realitzarà la ponència «El legado templario» i\, seguidament\, presentarà el seu llibre «Espacios Naturales con Historia». L’activitat acabarà amb un brindis. Aquesta activitat forma part de la programació trimestral de la associació Xivert Històric.
URL:https://anamariamartin.com/agenda/jesus-avila/
LOCATION:Casa de Cultura d’Alacalà de Xievrt\, Carrer Desamparats 16A\, Alcalà de Xievert\, Castelló\, 12579\, España
CATEGORIES:Alcalà de Xivert (poble),Associacions,Cultura,Xivert Històric
ATTACH;FMTTYPE=image/jpeg:https://anamariamartin.com/wp-content/uploads/2025/04/26abr-jesusavila.jpg
END:VEVENT
BEGIN:VEVENT
DTSTART;TZID=Europe/Madrid:20250503T180000
DTEND;TZID=Europe/Madrid:20250503T193000
DTSTAMP:20260425T134529
CREATED:20250414T094925Z
LAST-MODIFIED:20250414T095439Z
UID:10002801-1746295200-1746300600@anamariamartin.com
SUMMARY:Ponència i presentació - Conxa Solans
DESCRIPTION:L’autora Conxa Solans realitzarà la ponència «El protagonisme de les dones durant la República i la Guerra Civil» i\, seguidament\, presentarà el seu llibre «Enigmes\, embrulls i altres extravagàncies». Aquesta activitat forma part de la programació trimestral de la associació Xivert Històric.
URL:https://anamariamartin.com/agenda/conxa-solans/
LOCATION:Casa de Cultura d’Alacalà de Xievrt\, Carrer Desamparats 16A\, Alcalà de Xievert\, Castelló\, 12579\, España
CATEGORIES:Alcalà de Xivert (poble),Associacions,Cultura,Xivert Històric
ATTACH;FMTTYPE=image/jpeg:https://anamariamartin.com/wp-content/uploads/2025/04/3may-conxasolans.jpg
END:VEVENT
END:VCALENDAR