BEGIN:VCALENDAR
VERSION:2.0
PRODID:-//Ana María Martín - Gestió Cultural - ECPv6.13.2.1//NONSGML v1.0//EN
CALSCALE:GREGORIAN
METHOD:PUBLISH
X-ORIGINAL-URL:https://anamariamartin.com
X-WR-CALDESC:Eventos para Ana María Martín - Gestió Cultural
REFRESH-INTERVAL;VALUE=DURATION:PT1H
X-Robots-Tag:noindex
X-PUBLISHED-TTL:PT1H
BEGIN:VTIMEZONE
TZID:Europe/Madrid
BEGIN:DAYLIGHT
TZOFFSETFROM:+0100
TZOFFSETTO:+0200
TZNAME:CEST
DTSTART:20250330T010000
END:DAYLIGHT
BEGIN:STANDARD
TZOFFSETFROM:+0200
TZOFFSETTO:+0100
TZNAME:CET
DTSTART:20251026T010000
END:STANDARD
END:VTIMEZONE
BEGIN:VEVENT
DTSTART;TZID=Europe/Madrid:20250314T080000
DTEND;TZID=Europe/Madrid:20250314T170000
DTSTAMP:20260420T051032
CREATED:20241220T071500Z
LAST-MODIFIED:20250203T092125Z
UID:10002435-1741939200-1741971600@anamariamartin.com
SUMMARY:Club de Lectura Alcalà
DESCRIPTION:La programació del proper trimestre inclou tres propostes excepcionals:\n\n\n29 de gener: lectura de la novel·la «Madre de corazón atómico» de Fernández Mayo.\n12 de febrer: descobrirem el poemari «Versos despullats» de Fuensanta López.\n14 de març: conclourem el trimestre amb un esdeveniment molt especial\, comptant amb la presència de Pol Guasch\, que ens acompanyarà per presentar la seua última obra\, «Ofert a les mans\, el paradís crema».\n\n\nEl Club de Lectura sempre té les portes obertes per a continuar creixent en número d’integrants.
URL:https://anamariamartin.com/agenda/club-de-lectura-alcala/2025-03-14/
LOCATION:Castellón
CATEGORIES:Ajuntament Alcalà de Xivert,Alcalà de Xivert (poble),Cultura
ATTACH;FMTTYPE=image/jpeg:https://anamariamartin.com/wp-content/uploads/2024/12/clublectura14-03.jpg
END:VEVENT
BEGIN:VEVENT
DTSTART;TZID=Europe/Madrid:20250314T180000
DTEND;TZID=Europe/Madrid:20250314T200000
DTSTAMP:20260420T051032
CREATED:20241205T081159Z
LAST-MODIFIED:20250203T083511Z
UID:10002414-1741975200-1741982400@anamariamartin.com
SUMMARY:Club de Lectura Alcossebre
DESCRIPTION:Club de Lectura a Alcossebre: en horari de divendres\, de 18.00h a 20.00h\, a la Biblioteca de l’Associació de Jubilats Sant Benet. Inscripció gratuïta.\n\n\n—\nClub de Lectura en Alcossebre: en horario de viernes\, de 18.00h a 20.00h\, en la Biblioteca de la Asociación de Jubilados Sant Benet. Inscripción gratuita.
URL:https://anamariamartin.com/agenda/club-de-lectura-2/2025-03-14/
LOCATION:Biblioteca Sant Benet\, Carrer Sabina 23\, Alcossebre\, Castelló\, 12579\, España
CATEGORIES:Alcossebre (Alcalà de Xivert),Cultura,Particular
ATTACH;FMTTYPE=image/jpeg:https://anamariamartin.com/wp-content/uploads/2024/12/ClubLecturaSantBenet.jpg
ORGANIZER;CN="Ajuntament d'Alcal%C3%A0 de Xivert":MAILTO:info@alcaladexivert.es
END:VEVENT
END:VCALENDAR