BEGIN:VCALENDAR
VERSION:2.0
PRODID:-//Ana María Martín - Gestió Cultural - ECPv6.13.2.1//NONSGML v1.0//EN
CALSCALE:GREGORIAN
METHOD:PUBLISH
X-ORIGINAL-URL:https://anamariamartin.com
X-WR-CALDESC:Eventos para Ana María Martín - Gestió Cultural
REFRESH-INTERVAL;VALUE=DURATION:PT1H
X-Robots-Tag:noindex
X-PUBLISHED-TTL:PT1H
BEGIN:VTIMEZONE
TZID:Europe/Madrid
BEGIN:DAYLIGHT
TZOFFSETFROM:+0100
TZOFFSETTO:+0200
TZNAME:CEST
DTSTART:20250330T010000
END:DAYLIGHT
BEGIN:STANDARD
TZOFFSETFROM:+0200
TZOFFSETTO:+0100
TZNAME:CET
DTSTART:20251026T010000
END:STANDARD
END:VTIMEZONE
BEGIN:VEVENT
DTSTART;TZID=Europe/Madrid:20250315T110000
DTEND;TZID=Europe/Madrid:20250315T130000
DTSTAMP:20260424T000519
CREATED:20250312T090737Z
LAST-MODIFIED:20250312T100259Z
UID:10002496-1742036400-1742043600@anamariamartin.com
SUMMARY:Inauguració 50 Dones d'Història - Expo Fotografia
DESCRIPTION:Dissabte 15 de març\, a les 11.00h\, al CESAL d’Alcossebre inaugurarem l’exposició fotogràfica itinerant  50 DONES D’HISTÒRIA\, un projecte de la Regidoria d’Igualtat\, dins dels actes del Mes de la Dona\, per a visibilitzar les diferents facetes vitals de 50 dones del nostre poble.\nEsteu tots i totes convidats a assistir a la inauguració!\n\n\nEl sábado 15 de marzo\, a las 11.00h\, en el CESAL de Alcossebre inauguramos la exposición fotográfica itinerante  50 DONES D’HISTÒRIA\, un proyecto de la Concejalía de Igualdad\, dentro de los actos del Mes de la Dona\, para visibilizar las distintas facetas vitales de 50 mujeres de nuestro pueblo.\n¡Estáis todos y todas invitados a asistir a la inauguración!
URL:https://anamariamartin.com/agenda/inauguracio-50-dones-dhistoria/
LOCATION:CESAL de Alcossebre\, Carrer Ausiàs March\, Alcalà de Xivert\, Castelló\, 12579\, España
CATEGORIES:Ajuntament Alcalà de Xivert,Alcossebre (Alcalà de Xivert),Altres,Conmemoratiu,Cultura
ATTACH;FMTTYPE=image/jpeg:https://anamariamartin.com/wp-content/uploads/2025/03/expo-dones.jpg
ORGANIZER;CN="Ajuntament d'Alcal%C3%A0 de Xivert":MAILTO:info@alcaladexivert.es
END:VEVENT
END:VCALENDAR