BEGIN:VCALENDAR
VERSION:2.0
PRODID:-//Ana María Martín - Gestió Cultural - ECPv6.13.2.1//NONSGML v1.0//EN
CALSCALE:GREGORIAN
METHOD:PUBLISH
X-WR-CALNAME:Ana María Martín - Gestió Cultural
X-ORIGINAL-URL:https://anamariamartin.com
X-WR-CALDESC:Eventos para Ana María Martín - Gestió Cultural
REFRESH-INTERVAL;VALUE=DURATION:PT1H
X-Robots-Tag:noindex
X-PUBLISHED-TTL:PT1H
BEGIN:VTIMEZONE
TZID:Europe/Madrid
BEGIN:DAYLIGHT
TZOFFSETFROM:+0100
TZOFFSETTO:+0200
TZNAME:CEST
DTSTART:20250330T010000
END:DAYLIGHT
BEGIN:STANDARD
TZOFFSETFROM:+0200
TZOFFSETTO:+0100
TZNAME:CET
DTSTART:20251026T010000
END:STANDARD
END:VTIMEZONE
BEGIN:VEVENT
DTSTART;TZID=Europe/Madrid:20250407T160000
DTEND;TZID=Europe/Madrid:20250407T210000
DTSTAMP:20260421T052248
CREATED:20250414T235252Z
LAST-MODIFIED:20250414T235805Z
UID:10003182-1744041600-1744059600@anamariamartin.com
SUMMARY:Expo Fotografia "50 Dones d'Història"
DESCRIPTION:L’exposició «50 DONES D’HISTÒRIA» es pot visitar al CESAL ALCOSSEBRE del 7 a 17 d’abril. Horari: dilluns a divendres\, de 16.00h a 21.00h
URL:https://anamariamartin.com/agenda/expo-fotografia-50-dones/2025-04-07/
LOCATION:CESAL de Alcossebre\, Carrer Ausiàs March\, Alcalà de Xivert\, Castelló\, 12579\, España
CATEGORIES:Ajuntament Alcalà de Xivert,Alcossebre (Alcalà de Xivert),Altres,Conmemoratiu,Cultura
ATTACH;FMTTYPE=image/jpeg:https://anamariamartin.com/wp-content/uploads/2025/03/expo-dones.jpg
ORGANIZER;CN="Ajuntament d'Alcal%C3%A0 de Xivert":MAILTO:info@alcaladexivert.es
END:VEVENT
BEGIN:VEVENT
DTSTART;TZID=Europe/Madrid:20250408T160000
DTEND;TZID=Europe/Madrid:20250408T210000
DTSTAMP:20260421T052248
CREATED:20250414T235252Z
LAST-MODIFIED:20250414T235805Z
UID:10003183-1744128000-1744146000@anamariamartin.com
SUMMARY:Expo Fotografia "50 Dones d'Història"
DESCRIPTION:L’exposició «50 DONES D’HISTÒRIA» es pot visitar al CESAL ALCOSSEBRE del 7 a 17 d’abril. Horari: dilluns a divendres\, de 16.00h a 21.00h
URL:https://anamariamartin.com/agenda/expo-fotografia-50-dones/2025-04-08/
LOCATION:CESAL de Alcossebre\, Carrer Ausiàs March\, Alcalà de Xivert\, Castelló\, 12579\, España
CATEGORIES:Ajuntament Alcalà de Xivert,Alcossebre (Alcalà de Xivert),Altres,Conmemoratiu,Cultura
ATTACH;FMTTYPE=image/jpeg:https://anamariamartin.com/wp-content/uploads/2025/03/expo-dones.jpg
ORGANIZER;CN="Ajuntament d'Alcal%C3%A0 de Xivert":MAILTO:info@alcaladexivert.es
END:VEVENT
BEGIN:VEVENT
DTSTART;TZID=Europe/Madrid:20250409T160000
DTEND;TZID=Europe/Madrid:20250409T210000
DTSTAMP:20260421T052248
CREATED:20250414T235252Z
LAST-MODIFIED:20250414T235805Z
UID:10003184-1744214400-1744232400@anamariamartin.com
SUMMARY:Expo Fotografia "50 Dones d'Història"
DESCRIPTION:L’exposició «50 DONES D’HISTÒRIA» es pot visitar al CESAL ALCOSSEBRE del 7 a 17 d’abril. Horari: dilluns a divendres\, de 16.00h a 21.00h
URL:https://anamariamartin.com/agenda/expo-fotografia-50-dones/2025-04-09/
LOCATION:CESAL de Alcossebre\, Carrer Ausiàs March\, Alcalà de Xivert\, Castelló\, 12579\, España
CATEGORIES:Ajuntament Alcalà de Xivert,Alcossebre (Alcalà de Xivert),Altres,Conmemoratiu,Cultura
ATTACH;FMTTYPE=image/jpeg:https://anamariamartin.com/wp-content/uploads/2025/03/expo-dones.jpg
ORGANIZER;CN="Ajuntament d'Alcal%C3%A0 de Xivert":MAILTO:info@alcaladexivert.es
END:VEVENT
BEGIN:VEVENT
DTSTART;TZID=Europe/Madrid:20250410T160000
DTEND;TZID=Europe/Madrid:20250410T210000
DTSTAMP:20260421T052248
CREATED:20250414T235252Z
LAST-MODIFIED:20250414T235805Z
UID:10003185-1744300800-1744318800@anamariamartin.com
SUMMARY:Expo Fotografia "50 Dones d'Història"
DESCRIPTION:L’exposició «50 DONES D’HISTÒRIA» es pot visitar al CESAL ALCOSSEBRE del 7 a 17 d’abril. Horari: dilluns a divendres\, de 16.00h a 21.00h
URL:https://anamariamartin.com/agenda/expo-fotografia-50-dones/2025-04-10/
LOCATION:CESAL de Alcossebre\, Carrer Ausiàs March\, Alcalà de Xivert\, Castelló\, 12579\, España
CATEGORIES:Ajuntament Alcalà de Xivert,Alcossebre (Alcalà de Xivert),Altres,Conmemoratiu,Cultura
ATTACH;FMTTYPE=image/jpeg:https://anamariamartin.com/wp-content/uploads/2025/03/expo-dones.jpg
ORGANIZER;CN="Ajuntament d'Alcal%C3%A0 de Xivert":MAILTO:info@alcaladexivert.es
END:VEVENT
BEGIN:VEVENT
DTSTART;TZID=Europe/Madrid:20250411T160000
DTEND;TZID=Europe/Madrid:20250411T210000
DTSTAMP:20260421T052248
CREATED:20250414T235252Z
LAST-MODIFIED:20250414T235805Z
UID:10003186-1744387200-1744405200@anamariamartin.com
SUMMARY:Expo Fotografia "50 Dones d'Història"
DESCRIPTION:L’exposició «50 DONES D’HISTÒRIA» es pot visitar al CESAL ALCOSSEBRE del 7 a 17 d’abril. Horari: dilluns a divendres\, de 16.00h a 21.00h
URL:https://anamariamartin.com/agenda/expo-fotografia-50-dones/2025-04-11/
LOCATION:CESAL de Alcossebre\, Carrer Ausiàs March\, Alcalà de Xivert\, Castelló\, 12579\, España
CATEGORIES:Ajuntament Alcalà de Xivert,Alcossebre (Alcalà de Xivert),Altres,Conmemoratiu,Cultura
ATTACH;FMTTYPE=image/jpeg:https://anamariamartin.com/wp-content/uploads/2025/03/expo-dones.jpg
ORGANIZER;CN="Ajuntament d'Alcal%C3%A0 de Xivert":MAILTO:info@alcaladexivert.es
END:VEVENT
BEGIN:VEVENT
DTSTART;TZID=Europe/Madrid:20250414T160000
DTEND;TZID=Europe/Madrid:20250414T210000
DTSTAMP:20260421T052248
CREATED:20250414T235252Z
LAST-MODIFIED:20250414T235805Z
UID:10003187-1744646400-1744664400@anamariamartin.com
SUMMARY:Expo Fotografia "50 Dones d'Història"
DESCRIPTION:L’exposició «50 DONES D’HISTÒRIA» es pot visitar al CESAL ALCOSSEBRE del 7 a 17 d’abril. Horari: dilluns a divendres\, de 16.00h a 21.00h
URL:https://anamariamartin.com/agenda/expo-fotografia-50-dones/2025-04-14/
LOCATION:CESAL de Alcossebre\, Carrer Ausiàs March\, Alcalà de Xivert\, Castelló\, 12579\, España
CATEGORIES:Ajuntament Alcalà de Xivert,Alcossebre (Alcalà de Xivert),Altres,Conmemoratiu,Cultura
ATTACH;FMTTYPE=image/jpeg:https://anamariamartin.com/wp-content/uploads/2025/03/expo-dones.jpg
ORGANIZER;CN="Ajuntament d'Alcal%C3%A0 de Xivert":MAILTO:info@alcaladexivert.es
END:VEVENT
BEGIN:VEVENT
DTSTART;TZID=Europe/Madrid:20250415T160000
DTEND;TZID=Europe/Madrid:20250415T210000
DTSTAMP:20260421T052248
CREATED:20250414T235252Z
LAST-MODIFIED:20250414T235805Z
UID:10003188-1744732800-1744750800@anamariamartin.com
SUMMARY:Expo Fotografia "50 Dones d'Història"
DESCRIPTION:L’exposició «50 DONES D’HISTÒRIA» es pot visitar al CESAL ALCOSSEBRE del 7 a 17 d’abril. Horari: dilluns a divendres\, de 16.00h a 21.00h
URL:https://anamariamartin.com/agenda/expo-fotografia-50-dones/2025-04-15/
LOCATION:CESAL de Alcossebre\, Carrer Ausiàs March\, Alcalà de Xivert\, Castelló\, 12579\, España
CATEGORIES:Ajuntament Alcalà de Xivert,Alcossebre (Alcalà de Xivert),Altres,Conmemoratiu,Cultura
ATTACH;FMTTYPE=image/jpeg:https://anamariamartin.com/wp-content/uploads/2025/03/expo-dones.jpg
ORGANIZER;CN="Ajuntament d'Alcal%C3%A0 de Xivert":MAILTO:info@alcaladexivert.es
END:VEVENT
BEGIN:VEVENT
DTSTART;TZID=Europe/Madrid:20250416T160000
DTEND;TZID=Europe/Madrid:20250416T210000
DTSTAMP:20260421T052248
CREATED:20250414T235252Z
LAST-MODIFIED:20250414T235805Z
UID:10003189-1744819200-1744837200@anamariamartin.com
SUMMARY:Expo Fotografia "50 Dones d'Història"
DESCRIPTION:L’exposició «50 DONES D’HISTÒRIA» es pot visitar al CESAL ALCOSSEBRE del 7 a 17 d’abril. Horari: dilluns a divendres\, de 16.00h a 21.00h
URL:https://anamariamartin.com/agenda/expo-fotografia-50-dones/2025-04-16/
LOCATION:CESAL de Alcossebre\, Carrer Ausiàs March\, Alcalà de Xivert\, Castelló\, 12579\, España
CATEGORIES:Ajuntament Alcalà de Xivert,Alcossebre (Alcalà de Xivert),Altres,Conmemoratiu,Cultura
ATTACH;FMTTYPE=image/jpeg:https://anamariamartin.com/wp-content/uploads/2025/03/expo-dones.jpg
ORGANIZER;CN="Ajuntament d'Alcal%C3%A0 de Xivert":MAILTO:info@alcaladexivert.es
END:VEVENT
BEGIN:VEVENT
DTSTART;TZID=Europe/Madrid:20250417T100000
DTEND;TZID=Europe/Madrid:20250417T140000
DTSTAMP:20260421T052248
CREATED:20250414T233848Z
LAST-MODIFIED:20250415T063439Z
UID:10003177-1744884000-1744898400@anamariamartin.com
SUMMARY:IV MERCAT SOLIDARI DEL LLIBRE
DESCRIPTION:Organtizat per les Biblioteques Municipals d’Alcalà i Alcossebre\, es posen a la venda els fons de donacions de les Biblioteques i tot el que s’obté es dona a la junta local de l’Associació Espanyola contra el càncer.
URL:https://anamariamartin.com/agenda/iv-mercat-solidari-del-llibre/
LOCATION:Carrer La Purísima\, Carrer La Purísima 21\, Alcalà de Xivert\, Castelló\, 12570\, España
CATEGORIES:Ajuntament Alcalà de Xivert,Alcalà de Xivert (poble),Conmemoratiu,Cultura
ATTACH;FMTTYPE=image/jpeg:https://anamariamartin.com/wp-content/uploads/2025/04/diallibreajunt.jpg
ORGANIZER;CN="Ajuntament d'Alcal%C3%A0 de Xivert":MAILTO:info@alcaladexivert.es
END:VEVENT
BEGIN:VEVENT
DTSTART;TZID=Europe/Madrid:20250417T160000
DTEND;TZID=Europe/Madrid:20250417T210000
DTSTAMP:20260421T052248
CREATED:20250414T235252Z
LAST-MODIFIED:20250414T235805Z
UID:10003190-1744905600-1744923600@anamariamartin.com
SUMMARY:Expo Fotografia "50 Dones d'Història"
DESCRIPTION:L’exposició «50 DONES D’HISTÒRIA» es pot visitar al CESAL ALCOSSEBRE del 7 a 17 d’abril. Horari: dilluns a divendres\, de 16.00h a 21.00h
URL:https://anamariamartin.com/agenda/expo-fotografia-50-dones/2025-04-17/
LOCATION:CESAL de Alcossebre\, Carrer Ausiàs March\, Alcalà de Xivert\, Castelló\, 12579\, España
CATEGORIES:Ajuntament Alcalà de Xivert,Alcossebre (Alcalà de Xivert),Altres,Conmemoratiu,Cultura
ATTACH;FMTTYPE=image/jpeg:https://anamariamartin.com/wp-content/uploads/2025/03/expo-dones.jpg
ORGANIZER;CN="Ajuntament d'Alcal%C3%A0 de Xivert":MAILTO:info@alcaladexivert.es
END:VEVENT
BEGIN:VEVENT
DTSTART;TZID=Europe/Madrid:20250423T170000
DTEND;TZID=Europe/Madrid:20250423T200000
DTSTAMP:20260421T052248
CREATED:20250414T232239Z
LAST-MODIFIED:20250414T233111Z
UID:10003176-1745427600-1745438400@anamariamartin.com
SUMMARY:Dia del llibre a Sant Benet
DESCRIPTION:Paraules de la asociació: \nLa lectura nos ayuda a viajar a mundos desconocidos\, despierta nuestra mente y enriquece nuestro interior. Los libros son una fuente de conocimiento que nos permite entender lo que nos rodea. \nEn Sant Benet queremos celebrarlo y\, por ello\, os invitamos a participar en: \nIntercambio de libros que ya hayas leído\, a los que les damos más oportunidades\, por otros. \nColabora adquiriendo un broche solidario\, de una flor tejida por las mujeres de TEIXINT POBLE \nLectura compartida en la biblioteca de 17:30 a 18:30 \nEntrada lliure.
URL:https://anamariamartin.com/agenda/dia-del-llibre-a-sant-benet/
LOCATION:Local Associació de Jubilats Alcossebre\, Carrer Sabina 23\, Alcossebre\, Castelló\, 12579\, España
CATEGORIES:Alcossebre (Alcalà de Xivert),Associació de Jubilats i Pensionistes Sant Benet,Associacions,Conmemoratiu,Cultura
ATTACH;FMTTYPE=image/jpeg:https://anamariamartin.com/wp-content/uploads/2025/04/SANTBENET.jpg
END:VEVENT
END:VCALENDAR