BEGIN:VCALENDAR
VERSION:2.0
PRODID:-//Ana María Martín - Gestió Cultural - ECPv6.13.2.1//NONSGML v1.0//EN
CALSCALE:GREGORIAN
METHOD:PUBLISH
X-WR-CALNAME:Ana María Martín - Gestió Cultural
X-ORIGINAL-URL:https://anamariamartin.com
X-WR-CALDESC:Eventos para Ana María Martín - Gestió Cultural
REFRESH-INTERVAL;VALUE=DURATION:PT1H
X-Robots-Tag:noindex
X-PUBLISHED-TTL:PT1H
BEGIN:VTIMEZONE
TZID:Europe/Madrid
BEGIN:DAYLIGHT
TZOFFSETFROM:+0100
TZOFFSETTO:+0200
TZNAME:CEST
DTSTART:20240331T010000
END:DAYLIGHT
BEGIN:STANDARD
TZOFFSETFROM:+0200
TZOFFSETTO:+0100
TZNAME:CET
DTSTART:20241027T010000
END:STANDARD
END:VTIMEZONE
BEGIN:VEVENT
DTSTART;TZID=Europe/Madrid:20240723T183000
DTEND;TZID=Europe/Madrid:20240823T213000
DTSTAMP:20260420T095111
CREATED:20241001T121135Z
LAST-MODIFIED:20241001T121135Z
UID:10001166-1721759400-1724448600@anamariamartin.com
SUMMARY:Exposició d'Escultures de Pedro Anía
DESCRIPTION:
URL:https://anamariamartin.com/agenda/exposicio-descultures-de-pedro-ania-2/
LOCATION:CESAL de Alcossebre\, Carrer Ausiàs March\, Alcalà de Xivert\, Castelló\, 12579\, España
CATEGORIES:Ajuntament Alcalà de Xivert,Alcossebre (Alcalà de Xivert)
ATTACH;FMTTYPE=image/jpeg:https://anamariamartin.com/wp-content/uploads/2024/07/ExpoPedroAniaGerez.jpg
ORGANIZER;CN="Ajuntament d'Alcal%C3%A0 de Xivert":MAILTO:info@alcaladexivert.es
END:VEVENT
BEGIN:VEVENT
DTSTART;VALUE=DATE:20240726
DTEND;VALUE=DATE:20240729
DTSTAMP:20260420T095111
CREATED:20241001T121135Z
LAST-MODIFIED:20241001T121135Z
UID:10001966-1721952000-1722211199@anamariamartin.com
SUMMARY:Festes de Capicorb 2024
DESCRIPTION:FESTES CAPICORB\nCapicorb viu les seues festes intensament el proper cap de setmana\, del 26 al 28 de juliol\, amb un ampli programa d’actes\, el festival CAPIROCK i el Mercat artesanal i de productes de la terra.\n\n\nFIESTAS CAPICORB\nCapicorb vive sus fiestas intensamente el próximo fin de semana\, del 26 al 28 de julio\, con un amplio programa de actos\, el festival CAPIROCK y el Mercado artesanal y de productos de la tierra.
URL:https://anamariamartin.com/agenda/festes-de-capicorb-2024/
LOCATION:Antigues Escoles Capicorb\, Antigues Escoles Capicorb\, Capicorb\, Castelló\, 12579\, España
CATEGORIES:Ajuntament Alcalà de Xivert,Capicorb (Alcalà de Xivert)
ATTACH;FMTTYPE=image/jpeg:https://anamariamartin.com/wp-content/uploads/2024/07/festesCapicorb24.jpg
ORGANIZER;CN="Ajuntament d'Alcal%C3%A0 de Xivert":MAILTO:info@alcaladexivert.es
END:VEVENT
BEGIN:VEVENT
DTSTART;TZID=Europe/Madrid:20240728T100000
DTEND;TZID=Europe/Madrid:20240728T140000
DTSTAMP:20260420T095111
CREATED:20241001T121135Z
LAST-MODIFIED:20241001T121135Z
UID:10001163-1722160800-1722175200@anamariamartin.com
SUMMARY:Festes Capicorb 2024
DESCRIPTION:Mercat artesanal i productes de la terra
URL:https://anamariamartin.com/agenda/festes-capicorb/
LOCATION:Torre de Capicorb\, Camí de Campas\, Alcalà de Xivert\, Castelló\, 12579\, España
CATEGORIES:Ajuntament Alcalà de Xivert,Capicorb (Alcalà de Xivert)
ATTACH;FMTTYPE=image/jpeg:https://anamariamartin.com/wp-content/uploads/2024/07/festescapicorb.jpg
END:VEVENT
BEGIN:VEVENT
DTSTART;TZID=Europe/Madrid:20240728T183000
DTEND;TZID=Europe/Madrid:20240728T213000
DTSTAMP:20260420T095111
CREATED:20241001T121135Z
LAST-MODIFIED:20241001T121135Z
UID:10001928-1722191400-1722202200@anamariamartin.com
SUMMARY:Expocició Escultures de Pedro Anía
DESCRIPTION:
URL:https://anamariamartin.com/agenda/expocicio-escultures-de-pedro-ania-2/2024-07-28/
LOCATION:CESAL de Alcossebre\, Carrer Ausiàs March\, Alcalà de Xivert\, Castelló\, 12579\, España
CATEGORIES:Ajuntament Alcalà de Xivert,Alcossebre (Alcalà de Xivert)
ATTACH;FMTTYPE=image/jpeg:https://anamariamartin.com/wp-content/uploads/2024/07/ExpoPedroAniaGerez.jpg
ORGANIZER;CN="Ajuntament d'Alcal%C3%A0 de Xivert":MAILTO:info@alcaladexivert.es
END:VEVENT
BEGIN:VEVENT
DTSTART;TZID=Europe/Madrid:20240728T194500
DTEND;TZID=Europe/Madrid:20240728T233000
DTSTAMP:20260420T095111
CREATED:20241001T121216Z
LAST-MODIFIED:20241001T121216Z
UID:10001965-1722195900-1722209400@anamariamartin.com
SUMMARY:Tardeo con David Llacer
DESCRIPTION:¡Vamos a acabar la semana como toca! \n\n\nEste domingo 28 de julio tendremos tardeo con daviddllacer \n\n\nApertura de puertas 19.45h\n\n\n¡Reserva tu mesa!
URL:https://anamariamartin.com/agenda/tardeo-con-david-llacer/
LOCATION:Lemon Pub Terraza\, C/ Jai Alai\, 4\, Alcossebre\, Castelló\, 12579\, España
CATEGORIES:Empresa local
ATTACH;FMTTYPE=image/jpeg:https://anamariamartin.com/wp-content/uploads/2024/07/lemonTardeo.jpg
END:VEVENT
END:VCALENDAR