BEGIN:VCALENDAR
VERSION:2.0
PRODID:-//Ana María Martín - Gestió Cultural - ECPv6.13.2.1//NONSGML v1.0//EN
CALSCALE:GREGORIAN
METHOD:PUBLISH
X-ORIGINAL-URL:https://anamariamartin.com
X-WR-CALDESC:Eventos para Ana María Martín - Gestió Cultural
REFRESH-INTERVAL;VALUE=DURATION:PT1H
X-Robots-Tag:noindex
X-PUBLISHED-TTL:PT1H
BEGIN:VTIMEZONE
TZID:Europe/Madrid
BEGIN:DAYLIGHT
TZOFFSETFROM:+0100
TZOFFSETTO:+0200
TZNAME:CEST
DTSTART:20240331T010000
END:DAYLIGHT
BEGIN:STANDARD
TZOFFSETFROM:+0200
TZOFFSETTO:+0100
TZNAME:CET
DTSTART:20241027T010000
END:STANDARD
END:VTIMEZONE
BEGIN:VEVENT
DTSTART;TZID=Europe/Madrid:20240421T170000
DTEND;TZID=Europe/Madrid:20240421T170000
DTSTAMP:20260424T100726
CREATED:20241001T121051Z
LAST-MODIFIED:20241001T121051Z
UID:10000299-1713718800-1713718800@anamariamartin.com
SUMMARY:Dia del Totxo-Mans Unides
DESCRIPTION:17:00 Apertura\n17:30 1ª Actuació de l’Escola del Grup de Danses Lo Cirilo i del Grup de Dolçainers i Tabaleters Lo Xular\n18:30 Actuació del «Màgic Luis\, el Mago»\n19:30 2ª Actuació del xiquets i xiquetes de la Primera Comunió\n19:45 Sorteig\, regals i acomiadament \n\nAmb la col.laboració de l’Ajuntament\, Associacions u un gran nombre d’empreses i particulars del poble.
URL:https://anamariamartin.com/agenda/dia-del-totxo-mans-unides/
LOCATION:Castellón
CATEGORIES:Ajuntament Alcalà de Xivert
ATTACH;FMTTYPE=image/jpeg:https://anamariamartin.com/wp-content/uploads/2024/05/diadeltotxo.jpg
END:VEVENT
END:VCALENDAR